BEGIN:VCALENDAR
VERSION:2.0
PRODID:-//BRCA+ Chat - ECPv6.15.20//NONSGML v1.0//EN
CALSCALE:GREGORIAN
METHOD:PUBLISH
X-WR-CALNAME:BRCA+ Chat
X-ORIGINAL-URL:https://brcachat.com
X-WR-CALDESC:Events for BRCA+ Chat
REFRESH-INTERVAL;VALUE=DURATION:PT1H
X-Robots-Tag:noindex
X-PUBLISHED-TTL:PT1H
BEGIN:VTIMEZONE
TZID:UTC
BEGIN:STANDARD
TZOFFSETFROM:+0000
TZOFFSETTO:+0000
TZNAME:UTC
DTSTART:20250101T000000
END:STANDARD
END:VTIMEZONE
BEGIN:VEVENT
DTSTART;TZID=UTC:20260422T193000
DTEND;TZID=UTC:20260422T203000
DTSTAMP:20260424T083310
CREATED:20250416T114602Z
LAST-MODIFIED:20260316T105727Z
UID:4377-1776886200-1776889800@brcachat.com
SUMMARY:Online Talk | I've Just Found Out\, What Next? | FREE event
DESCRIPTION:Join us for our next online talk with our guest speaker and Genetic Counsellor\, Charlie. \nCharlie will talk about the medical side of genetic alterations\, all the options\, and the big decisions. She will then answer your questions. \nIf you have recently discovered your gene mutation and are feeling a little overwhelmed\, then this is one not to miss! \n🎉 What’s the Scoop: \nAll you need is an internet connection and a device where you can join an online meeting\, then you can make a cuppa and sit back\, relax and listen in – or feel free to jot down some notes! \nIf you have any questions for us relating to the topic\, you can send them to us and we will make a note of these and hope to answer a few at the end of the talk. \nBook below and email us with any questions here! \n📅 Date:   \nWeds 22nd April\, 2026  \n⌚ Time: \n \n7.30pm\n \n📍 Location:  Online – You will receive a link to join the meeting in your confirmation email. \n			\n				\n				\n				\n				\n				\n				\n				\n					\n				REGISTER HERE
URL:https://brcachat.com/event/online-talk/
LOCATION:Online\, United Kingdom
CATEGORIES:Online Talks
ORGANIZER;CN="BRCA+ Chat":MAILTO:info@brcachat.com
END:VEVENT
END:VCALENDAR