BEGIN:VCALENDAR
VERSION:2.0
PRODID:-//BRCA+ Chat - ECPv6.15.20//NONSGML v1.0//EN
CALSCALE:GREGORIAN
METHOD:PUBLISH
X-WR-CALNAME:BRCA+ Chat
X-ORIGINAL-URL:https://brcachat.com
X-WR-CALDESC:Events for BRCA+ Chat
REFRESH-INTERVAL;VALUE=DURATION:PT1H
X-Robots-Tag:noindex
X-PUBLISHED-TTL:PT1H
BEGIN:VTIMEZONE
TZID:UTC
BEGIN:STANDARD
TZOFFSETFROM:+0000
TZOFFSETTO:+0000
TZNAME:UTC
DTSTART:20250101T000000
END:STANDARD
END:VTIMEZONE
BEGIN:VEVENT
DTSTART;TZID=UTC:20260426T100000
DTEND;TZID=UTC:20260426T123000
DTSTAMP:20260426T021002
CREATED:20260113T224824Z
LAST-MODIFIED:20260316T112942Z
UID:5057-1777197600-1777206600@brcachat.com
SUMMARY:Leeds 'Walk & Talk' Meet Up
DESCRIPTION:🌟 BRCA+ Chat Leeds ‘Walk & Talk’ Meet Up  \nHey BRCA+ superheroes! Join us for a relaxed and laughter-filled BRCA+ Chat meet up where the vibe is easy\, and the company is fantastic. We’re all about turning the challenges into opportunities for connection\, support\, and good times. \nAlison is heading to Roundhay Park for her next ‘walk & talk’. She’ll be doing a route around the lake and surrounding pathways. The route is generally flat and is mostly paved\, though the area around the lake can be a little more uneven under foot. Parking is available in the park for a small fee\, or on surrounding roads for free. \nThe meeting point is outside the Lakeside Cafe\, where you can buy a coffee. \n🎉 What’s the Scoop:  \nImagine an evening where the only agenda is to have a good time with awesome people. Whether it’s over a cosy dinner\, a casual bar hangout\, a coffee catch-up\, or exploring the city’s quirkiest exhibits\, our meetups are all about keeping it easy\, breezy\, and enjoyable.  \n🌈Why Join:  \n – Connection: Hang out with people who get it.  \n– Support: Find a crew that’s got your back.  \n– Good Vibes All-Round: Because life’s better with a good laugh.  \n   \n📅 When and Where:  \nSunday 26th April \n Save the date and join us for the next BRCA Chat meetup. Check the details below\, invite a friend if you like\, and let’s make some memories.  \n📍 Location:  \nRoundhay Park (meeting outside the Lakeside Cafe)\nLS8\n \n⌚ Time:  \n10am \n			\n				\n				\n				\n				\n				\n				\n				\n					\n				REGISTER HERE
URL:https://brcachat.com/event/leeds-walk-talk-meet-up-2/
LOCATION:Roundhay Park
CATEGORIES:Meetups
ORGANIZER;CN="BRCA+ Chat":MAILTO:info@brcachat.com
END:VEVENT
BEGIN:VEVENT
DTSTART;TZID=UTC:20260426T100000
DTEND;TZID=UTC:20260426T130000
DTSTAMP:20260426T021002
CREATED:20250202T160243Z
LAST-MODIFIED:20260316T111247Z
UID:4103-1777197600-1777208400@brcachat.com
SUMMARY:New Forest 'Walk & Talk' Meet Up
DESCRIPTION:🌟 BRCA+ Chat New Forest ‘Walk & Talk’ Meet Up  \nHey BRCA+ superheroes! Join us for a relaxed and laughter-filled BRCA+ Chat meetup where the vibe is easy\, and the company is fantastic. We’re all about turning the challenges into opportunities for connection\, support\, and good times.  \nOur Babe and outdoors enthusiast\, Vicki can’t wait to see you for coffee\, a walk\, and lots of talk. \n🎉 What’s the Scoop:  \nImagine an evening where the only agenda is to have a good time with awesome people. Whether it’s over a cosy dinner\, a casual bar hangout\, a coffee catch-up\, or exploring the city’s quirkiest exhibits\, our meetups are all about keeping it easy\, breezy\, and enjoyable.  \n🌈Why Join:  \n – Connection: Hang out with people who get it.  \n– Support: Find a crew that’s got your back.  \n– Good Vibes All-Round: Because life’s better with a good laugh.  \n   \n📅 When and Where:  \nSunday 26th April \nSave the date and join us for the next BRCA+ Chat meetup. Check the details below\, invite a friend if you like\, and let’s make some memories.  \n📍 Location:  \nThe Terrace Cafe in Brockenhurst\, followed by an optional short walk in the forest.\n \n58 Brookley Road\nBrockenhurst\nSO42 7RA\n \n \n⌚ Time:  \n10am \n			\n				\n				\n				\n				\n				\n				\n				\n					\n				REGISTER HERE
URL:https://brcachat.com/event/new-forest-meetup/
LOCATION:The Terrace Cafe\, 58 Brookley Road\, Brockenhurst\, SO42 7RA
CATEGORIES:Meetups
ORGANIZER;CN="BRCA+ Chat":MAILTO:info@brcachat.com
END:VEVENT
BEGIN:VEVENT
DTSTART;TZID=UTC:20260426T140000
DTEND;TZID=UTC:20260426T160000
DTSTAMP:20260426T021002
CREATED:20260122T131534Z
LAST-MODIFIED:20260316T113946Z
UID:5098-1777212000-1777219200@brcachat.com
SUMMARY:Nottingham Meet Up
DESCRIPTION:🌟 BRCA+ Chat Nottingham Meet Up \nHey BRCA+ superheroes! Join us for a relaxed and laughter-filled BRCA+ Chat meet up where the vibe is easy\, and the company is fantastic. We’re all about turning the challenges into opportunities for connection\, support\, and good times. \nAlex has organised a Sunday Brunch- THE perfect way to spend a weekend afternoon! \n🎉 What’s the Scoop: \nImagine an evening where the only agenda is to have a good time with awesome people. Whether it’s over a cozy dinner\, a casual bar hangout\, a coffee catch-up\, or exploring the city’s quirkiest exhibits\, our meetups are all about keeping it easy\, breezy\, and enjoyable. \n🌈Why Join:  \n – Connection: Hang out with people who get it.  \n– Support: Find a crew that’s got your back.  \n– Good Vibes All-Round: Because life’s better with a good laugh.  \n📅 When and Where:  \nSave the date and join us for the next BRCA Chat meetup. Check the details below\, invite a friend if you like\, and let’s make some memories.  \n📍 Location:  \nBinks Yard \nLocated at 1 The Great Northern Close which is off London Road and opposite Virgin Active Gym . The main entrance to Binks Yard restaurant and bar is down the steps to the rear of the 1 The Island Quarter building. \nParking –  The closest carparks include Premier Inn and Nottingham Train Station. \n⌚ Time:\n2-4pm \n			\n				\n				\n				\n				\n				\n				\n				\n					\n				REGISTER HERE
URL:https://brcachat.com/event/nottingham-meet-up/
LOCATION:Binks Yard\, 1 The Great Northern Close\, Nottingham\, NG2 3JL
CATEGORIES:Meetups
ORGANIZER;CN="BRCA+ Chat":MAILTO:info@brcachat.com
END:VEVENT
END:VCALENDAR