BEGIN:VCALENDAR
VERSION:2.0
PRODID:-//BRCA+ Chat - ECPv6.15.20//NONSGML v1.0//EN
CALSCALE:GREGORIAN
METHOD:PUBLISH
X-ORIGINAL-URL:https://brcachat.com
X-WR-CALDESC:Events for BRCA+ Chat
REFRESH-INTERVAL;VALUE=DURATION:PT1H
X-Robots-Tag:noindex
X-PUBLISHED-TTL:PT1H
BEGIN:VTIMEZONE
TZID:UTC
BEGIN:STANDARD
TZOFFSETFROM:+0000
TZOFFSETTO:+0000
TZNAME:UTC
DTSTART:20240101T000000
END:STANDARD
END:VTIMEZONE
BEGIN:VEVENT
DTSTART;TZID=UTC:20250716T193000
DTEND;TZID=UTC:20250716T203000
DTSTAMP:20260423T221934
CREATED:20250621T095803Z
LAST-MODIFIED:20250621T095809Z
UID:4600-1752694200-1752697800@brcachat.com
SUMMARY:Online Talk | PGT Panel | FREE event
DESCRIPTION:You are invited to join us for an engaging and informative talk\, hosted by BRCA+ Chat\, where we have guest speakers talk to you about their experiences with a particular topic. \n\nJoin us for this fantastic PGT Panel where three of our gorgeous BRCA+ Buddies will share their personal journeys with IVF and Preimplantation Genetic Testing. \n  \n\n🎉 What’s the Scoop: \nAll you need is an internet connection and a device where you can join an online meeting\, then you can make a cuppa and sit back\, relax and listen in – or feel free to jot down some notes! \nIf you have any questions for us relating to the topic\, you can send them to us and we will make a note of these and hope to answer a few at the end of the talk. \nBook below and email us with any questions here! \n  \n📅 Date:  Weds 16th July\, 2025  \n⌚ Time: 7.30pm\n \n📍 Location:  Online – Keep an eye on your email inbox nearer the time of the event! You will receive a link to the online meeting beforehand. \n			\n				\n				\n				\n				\n				\n				\n				\n					\n				REGISTER HERE
URL:https://brcachat.com/event/online-talk-pgt-panel-free-event/
LOCATION:Online\, United Kingdom
CATEGORIES:Online Talks
ORGANIZER;CN="BRCA+ Chat":MAILTO:info@brcachat.com
END:VEVENT
END:VCALENDAR