BEGIN:VCALENDAR
VERSION:2.0
PRODID:-//BRCA+ Chat - ECPv6.15.20//NONSGML v1.0//EN
CALSCALE:GREGORIAN
METHOD:PUBLISH
X-ORIGINAL-URL:https://brcachat.com
X-WR-CALDESC:Events for BRCA+ Chat
REFRESH-INTERVAL;VALUE=DURATION:PT1H
X-Robots-Tag:noindex
X-PUBLISHED-TTL:PT1H
BEGIN:VTIMEZONE
TZID:UTC
BEGIN:STANDARD
TZOFFSETFROM:+0000
TZOFFSETTO:+0000
TZNAME:UTC
DTSTART:20250101T000000
END:STANDARD
END:VTIMEZONE
BEGIN:VEVENT
DTSTART;TZID=UTC:20260318T193000
DTEND;TZID=UTC:20260318T203000
DTSTAMP:20260423T110353
CREATED:20250213T102200Z
LAST-MODIFIED:20260218T155406Z
UID:4164-1773862200-1773865800@brcachat.com
SUMMARY:Online Talk | Sex & The Menopause || FREE event
DESCRIPTION:You are invited to join us for a bold and empowering talk with Dr Claire Macaulay\, an oncology doctor and menopause specialist\, who helps women reignite their sensuality. \nMenopause can feel like a plot twist—changing your body\, your confidence\, and your connection to intimacy. But here’s the truth: desire doesn’t disappear\, and pleasure is still yours to claim! \nWe’ll dive into intimacy\, self-love\, and feeling good in your skin again—because menopause is not the end of desire\, it’s a new beginning. \nThis is your chance to get expert advice\, share your thoughts\, and connect with others on the same journey. \nNo topic is off-limits—let’s have an open\, honest\, and empowering conversation. \nFind out more about Dr Claire’s work on her website\, The Pleasure Possibility. \n🎉 What’s the Scoop: \nAll you need is an internet connection and a device where you can join an online meeting\, then you can make a cuppa and sit back\, relax and listen in – or feel free to jot down some notes! \nIf you have any questions for us relating to the topic\, you can send them to us and we will make a note of these and hope to answer a few at the end of the talk. \nBook below and email us with any questions here! \n  \n📅 Date:  Weds 18th March  \n⌚ Time: 7.30pm\n \n📍 Location:  Online – Keep an eye on your email inbox nearer the time of the event! You will receive a link to the online meeting beforehand. \n			\n				\n				\n				\n				\n				\n				\n				\n					\n				REGISTER HERE
URL:https://brcachat.com/event/online-talk-sex-the-menopause-free-event/
LOCATION:Online\, United Kingdom
CATEGORIES:Online Talks
ORGANIZER;CN="BRCA+ Chat":MAILTO:info@brcachat.com
END:VEVENT
END:VCALENDAR