BEGIN:VCALENDAR
VERSION:2.0
PRODID:-//BRCA+ Chat - ECPv6.15.20//NONSGML v1.0//EN
CALSCALE:GREGORIAN
METHOD:PUBLISH
X-WR-CALNAME:BRCA+ Chat
X-ORIGINAL-URL:https://brcachat.com
X-WR-CALDESC:Events for BRCA+ Chat
REFRESH-INTERVAL;VALUE=DURATION:PT1H
X-Robots-Tag:noindex
X-PUBLISHED-TTL:PT1H
BEGIN:VTIMEZONE
TZID:UTC
BEGIN:STANDARD
TZOFFSETFROM:+0000
TZOFFSETTO:+0000
TZNAME:UTC
DTSTART:20240101T000000
END:STANDARD
END:VTIMEZONE
BEGIN:VEVENT
DTSTART;TZID=UTC:20251113T193000
DTEND;TZID=UTC:20251113T203000
DTSTAMP:20260420T195112
CREATED:20250918T165539Z
LAST-MODIFIED:20250918T165545Z
UID:4884-1763062200-1763065800@brcachat.com
SUMMARY:💻Online | Meditation Yoga with Rosie | FREE Event
DESCRIPTION:🧘‍♀️ BRCA+ Chat – Meditation Yoga  \nHey BRCA+ superheroes! Join us for an evening of relaxing meditation yoga with the lovely Rosie. \nTHE perfect way to relieve stress and unwind\, you can be assured of a great nights sleep. \n🎉 What’s the Scoop:  \nThis session really is suitable for all. Not a downward dog in sight- just simple seated stretches\, breath work and total calmness. \n🌈Why Join:  \n – Reduce Stress levels \n– Take time to relax & reconnect with yourself \n– Good Vibes All-Round \n   \n📅 When and Where: \nThursday 13th November \n📍 Location:  \nOnline \n⌚ Time:  \n7.30pm \n			\n				\n				\n				\n				\n				\n				\n				\n					\n				REGISTER HERE
URL:https://brcachat.com/event/online-meditation-yoga/
LOCATION:Online\, United Kingdom
CATEGORIES:Yoga
ORGANIZER;CN="BRCA+ Chat":MAILTO:info@brcachat.com
END:VEVENT
END:VCALENDAR