BEGIN:VCALENDAR
VERSION:2.0
PRODID:-//BRCA+ Chat - ECPv6.15.20//NONSGML v1.0//EN
CALSCALE:GREGORIAN
METHOD:PUBLISH
X-WR-CALNAME:BRCA+ Chat
X-ORIGINAL-URL:https://brcachat.com
X-WR-CALDESC:Events for BRCA+ Chat
REFRESH-INTERVAL;VALUE=DURATION:PT1H
X-Robots-Tag:noindex
X-PUBLISHED-TTL:PT1H
BEGIN:VTIMEZONE
TZID:UTC
BEGIN:STANDARD
TZOFFSETFROM:+0000
TZOFFSETTO:+0000
TZNAME:UTC
DTSTART:20250101T000000
END:STANDARD
END:VTIMEZONE
BEGIN:VEVENT
DTSTART;TZID=UTC:20260514T193000
DTEND;TZID=UTC:20260514T203000
DTSTAMP:20260420T142237
CREATED:20260102T133139Z
LAST-MODIFIED:20260410T082711Z
UID:5025-1778787000-1778790600@brcachat.com
SUMMARY:Meditation Yoga with Rosie | Online | FREE to attend
DESCRIPTION:🧘‍♀️ BRCA+ Chat – Meditation Yoga  \nHey BRCA+ superheroes! Join us for an evening of relaxing meditation yoga with the lovely Rosie from Do Your OM Thing. \nTHE perfect way to relieve stress and unwind\, you can be assured of a great nights sleep. \n🎉 What’s the Scoop:  \nThis session really is suitable for all. Not a downward dog in sight- just simple seated stretches\, breath work and total calmness. \n🌈Why Join:  \n – Reduce Stress levels \n– Take time to relax & reconnect with yourself \n– Good Vibes All-Round \n – FREE to attend \n📅 When and Where: \nThursday 14th May \n📍 Location:  \nOnline \n⌚ Time:  \n7.30pm \n			\n				\n				\n				\n				\n				\n				\n				\n					\n				REGISTER HERE
URL:https://brcachat.com/event/meditation-yoga-with-rosie-online-free-to-attend/
LOCATION:Online\, United Kingdom
CATEGORIES:Yoga
ORGANIZER;CN="BRCA+ Chat":MAILTO:info@brcachat.com
END:VEVENT
END:VCALENDAR