BEGIN:VCALENDAR
VERSION:2.0
PRODID:-//BRCA+ Chat - ECPv6.15.20//NONSGML v1.0//EN
CALSCALE:GREGORIAN
METHOD:PUBLISH
X-WR-CALNAME:BRCA+ Chat
X-ORIGINAL-URL:https://brcachat.com
X-WR-CALDESC:Events for BRCA+ Chat
REFRESH-INTERVAL;VALUE=DURATION:PT1H
X-Robots-Tag:noindex
X-PUBLISHED-TTL:PT1H
BEGIN:VTIMEZONE
TZID:UTC
BEGIN:STANDARD
TZOFFSETFROM:+0000
TZOFFSETTO:+0000
TZNAME:UTC
DTSTART:20230101T000000
END:STANDARD
END:VTIMEZONE
BEGIN:VEVENT
DTSTART;TZID=UTC:20240228T193000
DTEND;TZID=UTC:20240228T210000
DTSTAMP:20260423T225833
CREATED:20240117T163842Z
LAST-MODIFIED:20240125T175404Z
UID:2462-1709148600-1709154000@brcachat.com
SUMMARY:February Peer Support Group
DESCRIPTION:Day(s) \n					\n						: \n					\n						 \n						Hour(s) \n					\n						: \n					\n						 \n						Minute(s) \n					\n						: \n					\n						 \n						Second(s) \n					\n				\n			\n			\n				\n				\n				\n				\n			\n				\n				\n				\n				\n				\n				\n				\n				\n				\n				\n				We know the power in community\, and we know the power in chatting (hence BRCA+ Chat).   \nOur PSG’s are a great opportunity to meet others in a similar situation\, and we have had fab feedback from our past groups.   \nYou can come and chat. You can come and ask questions. You can come and listen.  \nThere is lots of research that shows Peer Support makes a difference.  \n\nFeel less isolated \nBuild the U.K community \nChat or listen \n\n Be mindful everyone is at different stages in their journeys.  \n			\n			\n				\n				\n				\n				\n			\n				\n				\n				\n				\n				\n				\n				\n				\n				\n				\n				\n				\n				\n					\n				Register Here\n			\n				\n			\n			\n				\n				\n				\n				\n			\n				\n				\n				\n				\n				\n				\n				\n				\n				\n				\n				\n				\n					“Thank you so much for this opportunity\, it was so helpful. I went to bed last night feeling like the weight of BRCA had lifted slightly.” \n					Peer Support Group Attendee
URL:https://brcachat.com/event/february-peer-support-group/
LOCATION:Online\, United Kingdom
CATEGORIES:Peer Support Groups
ORGANIZER;CN="BRCA+ Chat":MAILTO:info@brcachat.com
END:VEVENT
END:VCALENDAR