BEGIN:VCALENDAR
VERSION:2.0
PRODID:-//BRCA+ Chat - ECPv6.15.20//NONSGML v1.0//EN
CALSCALE:GREGORIAN
METHOD:PUBLISH
X-WR-CALNAME:BRCA+ Chat
X-ORIGINAL-URL:https://brcachat.com
X-WR-CALDESC:Events for BRCA+ Chat
REFRESH-INTERVAL;VALUE=DURATION:PT1H
X-Robots-Tag:noindex
X-PUBLISHED-TTL:PT1H
BEGIN:VTIMEZONE
TZID:UTC
BEGIN:STANDARD
TZOFFSETFROM:+0000
TZOFFSETTO:+0000
TZNAME:UTC
DTSTART:20240101T000000
END:STANDARD
END:VTIMEZONE
BEGIN:VEVENT
DTSTART;TZID=UTC:20250910T193000
DTEND;TZID=UTC:20250910T210000
DTSTAMP:20260420T211603
CREATED:20250811T143018Z
LAST-MODIFIED:20250811T151129Z
UID:4812-1757532600-1757538000@brcachat.com
SUMMARY:Peer Support Group - General
DESCRIPTION:🤗 We know and embrace the power of community\, and the transformative nature of meaningful conversations (hence BRCA+ Chat).  \nOur Peer Support Groups (PSGs) offer a valuable opportunity to connect with others facing similar situations. Join us for conversations\, pose questions\, or simply lend an ear to others. Past participants have given us fabulous feedback about their experiences in our groups. \nThere is lots of research that highlights the positive impact of Peer Support\, meaning that it can really make a difference. \nPeer Support has the ability to: \n🤝 Help you feel less isolated \n🌷Foster the growth of the UK BRCA+ community \n💬Facilitate open discussions & attentive listening \nIt’s essential to recognise that everyone is at different stages in their journeys\, so come prepared for a diverse and supportive environment. \n📅 When and Where: Wednesday 10th September. \nSave the date and join us virtually for the next BRCA+ Chat PSG. Check the details below\, and let’s get chatting! \n📍 Location: Online \n⌚ Time: 7.30pm \nAs with all of our PSGs\, admission is FREE\, and you can participate from the comfort of your home. \n			\n				\n				\n				\n				\n				\n				\n				\n					\n				REGISTER HERE
URL:https://brcachat.com/event/peer-support-group-general/
LOCATION:Online\, United Kingdom
CATEGORIES:Peer Support Groups
ORGANIZER;CN="BRCA+ Chat":MAILTO:info@brcachat.com
END:VEVENT
END:VCALENDAR